BEGIN:VCALENDAR
VERSION:2.0
PRODID:icalendar-ruby
CALSCALE:GREGORIAN
METHOD:PUBLISH
BEGIN:VEVENT
DTSTAMP:20260425T185631Z
UID:6-398061@pointcookbaptist.org.au
DTSTART:20260920T000000Z
DTEND:20260920T010000Z
CLASS:PUBLIC
CREATED:20260426T023932
DESCRIPTION:Our weekly Sunday worship service commences at 10AM\, and is fo
 llowed with coffee and a chat.  Communion is held once a month.  Kids ac
 tivites are available at each service.  All welcome we would love to see 
 you there!
LAST-MODIFIED:20260426T023932
LOCATION:Featherbrook P-9 College\, 281 Boardwalk Boulevard\, Point Cook Vi
 c 3030
SUMMARY:Church service
URL;VALUE=URI:https://www.pointcookbaptist.org.au/events/church-service/202
 6-09-20
END:VEVENT
END:VCALENDAR
